BEGIN:VCALENDAR
VERSION:2.0
PRODID:-//Library Market//iCal Export//EN
BEGIN:VEVENT
SUMMARY:Baby Rock &amp; Play
UID:45090
DTSTAMP:20260419T193100Z
DTSTART:20260427T150000Z
DTEND:20260427T160000Z
LOCATION:Normal Public Library, 206 W. College Ave., Normal, IL 61761, Uni
 ted States
ROOM: Community Room
DESCRIPTION:Enjoy a short story, songs, and BUBBLES intended to stimulate 
 and enhance babies&#039; development. Every session ends with playtime wit
 h new friends! Intended for ages 0 - 19 months with a caregiver, but all 
 are welcome. Join us on March 23th for a Dino themed Baby Rock &amp; Play
 , which is part of a week long dinosaur celebration on the children&#039;s
  floor.  Expect many dinosaur activities.
URL:https://www.normalpl.org/event/baby-rock-play-45090
END:VEVENT
END:VCALENDAR
