BEGIN:VCALENDAR
VERSION:2.0
PRODID:-//Library Market//iCal Export//EN
BEGIN:VEVENT
SUMMARY:Bird Alliance
UID:45072
DTSTAMP:20260419T193100Z
DTSTART:20260421T233000Z
DTEND:20260422T004500Z
LOCATION:Normal Public Library, 206 W. College Ave., Normal, IL 61761, Uni
 ted States
ROOM: Community Room
DESCRIPTION:
URL:https://www.normalpl.org/event/bird-alliance-45072
END:VEVENT
END:VCALENDAR
