BEGIN:VCALENDAR
VERSION:2.0
PRODID:-//Library Market//iCal Export//EN
BEGIN:VEVENT
SUMMARY:NPL Art Gallery Workshop: Collage!
UID:44791
DTSTAMP:20260420T004300Z
DTSTART:20260510T190000Z
DTEND:20260510T210000Z
LOCATION:Normal Public Library, 206 W. College Ave., Normal, IL 61761, Uni
 ted States
ROOM: Community Room
DESCRIPTION:Join us for an all-ages workshop inspired by the artwork in th
 e NPL Gallery! This workshop will be led by Melissa Oresky, an ISU Profess
 or whose artistic practice is rooted in painting and collage. We will coll
 age using recycled book materials. Stop in, be inspired, and spend time 
 in this fun art making activity! 
URL:https://www.normalpl.org/event/collage-workshop-44791
END:VEVENT
END:VCALENDAR
